BEGIN:VCALENDAR
VERSION:2.0
PRODID:-//ASEAN ACCESS MATCH - ECPv4.9.4//NONSGML v1.0//EN
CALSCALE:GREGORIAN
METHOD:PUBLISH
X-WR-CALNAME:ASEAN ACCESS MATCH
X-ORIGINAL-URL:https://match.aseanaccess.com
X-WR-CALDESC:Events for ASEAN ACCESS MATCH
BEGIN:VTIMEZONE
TZID:"UTC"
BEGIN:STANDARD
TZOFFSETFROM:+0000
TZOFFSETTO:+0000
TZNAME:UTC
DTSTART:20220101T000000
END:STANDARD
END:VTIMEZONE
BEGIN:VEVENT
DTSTART;TZID="UTC":20220607T130000
DTEND;TZID="UTC":20220607T150000
DTSTAMP:20230806T031447
CREATED:20220517T083328Z
LAST-MODIFIED:20221220T072347Z
UID:19564-1654606800-1654614000@match.aseanaccess.com
SUMMARY:Webinar: Cross-border e-commerce
DESCRIPTION:Women’s Business Council Philippines and EuroCham Cambodia are joining hands through ASEAN Access and invite all ASEAN businesses who sell online or would like to sell online\, to join a free virtual webinar on: “Cross-border e-commerce”. \nInternational trade is known to increase business growth\, innovation and profitability\, to name a few\, but we cannot always open physical stores in other countries. Therefore\, targeting online buyers is the key\, and accessing online buyers in new markets boosts business’ sustainability\, brand\, and visibility beyond national borders. \nThe webinar will touch upon topics such as consumer protection\, building an e-commerce shop\, practical channels for selling online\, and successfully handling logistics. The webinar is concluded by a panel of SMEs who all sell online and will share their views and expertise. \nProgramme: \n\n\n\n13.00 – 13.05\n\nWelcome\nMylene Abiva\, Chairperson\, Women’s Business Council Philippines \n\n\n\n13.05 – 13.25\n\nSnapshots of e-commerce consumer protection: an ASEAN insight\nSita Zimpel\, Project Director\, German Development Cooperation\, Indonesia \n\n\n\n13.25  -13.45\n\nSecrets of a standout e-commerce platform \nChris Wray\, Owner\, Chris Wray Consulting\, Cambodia \n\n\n\n13.45 – 14.05\n\nFinal step: order fulfilment\nRosemarie Rafael\, CEO\, Air Speed International Corporation\, The Philippines \n\n\n\n14.05 – 14.25\n\nSelling through regional and local e-commerce platforms\nJack Lee\, Founder & CEO\, Smileshop. Cambodia\nJayan Dy\, Head of E-commerce & Omnichannel\, ShopSM\, The Philippines \n\n\n\n14.25 – 14.45\n\nCross-border e-commerce peer learning: SME case studies \nNorm Bunnak\, CEO\, Villageworks\, Cambodia\nSherill Quintana\, President/ CEO\, Oryspa Spa Solutions\, The Philippines \n\n\n\n14.45 – 15.00\nQuestions and Answers\n\n\n\nRegistrations close at 23.00 (Bangkok time) on 6 June.  \nPlease note that the matchmaking function has been disabled for this event\, and no meetings can be booked. \nAfter registering\, please go to “My attendance” in your personal settings (top right corner menu) and tick the box for the “Cross-border e-commerce” as a session\, so the meeting link will appear on your agenda\, or you can just go in via “My attendance”.  \n
URL:https://match.aseanaccess.com/events/webinar-cross-border-e-commerce/
CATEGORIES:Events
ATTACH;FMTTYPE=image/jpeg:https://match.aseanaccess.com/wp-content/uploads/2022/05/mouse-5765040_1920.jpg
END:VEVENT
END:VCALENDAR