BEGIN:VCALENDAR
VERSION:2.0
PRODID:-//ASEAN ACCESS MATCH - ECPv4.9.4//NONSGML v1.0//EN
CALSCALE:GREGORIAN
METHOD:PUBLISH
X-WR-CALNAME:ASEAN ACCESS MATCH
X-ORIGINAL-URL:https://match.aseanaccess.com
X-WR-CALDESC:Events for ASEAN ACCESS MATCH
BEGIN:VTIMEZONE
TZID:"UTC"
BEGIN:STANDARD
TZOFFSETFROM:+0000
TZOFFSETTO:+0000
TZNAME:UTC
DTSTART:20220101T000000
END:STANDARD
END:VTIMEZONE
BEGIN:VEVENT
DTSTART;TZID="UTC":20221124T090000
DTEND;TZID="UTC":20221125T170000
DTSTAMP:20230806T031121
CREATED:20221031T072810Z
LAST-MODIFIED:20230224T072322Z
UID:19844-1669280400-1669395600@match.aseanaccess.com
SUMMARY:Textiles Matchmaking: Sustainable Fibres
DESCRIPTION:ASEAN Access Week brings textile craftsmanship\, local production\, environmental consciousness and small producers into focus at the virtual business matchmaking event for sustainable fibres buyers and suppliers\, and related businesses. Join this event and take advantage of the opportunity to source new products and technologies\, or to showcase your raw materials\, products and technologies to the regional business community or find new suppliers and technologies.  \n\n\n\nWho should participate?\n\n\nSuppliers of raw materials\nBuyers and users of raw materials\nTechnology and production equipment developers and suppliers\n\n\n\n\nWhat are sustainable fibres/textiles?\n\n\nCultivated and produced in an environmentally friendly way\nHave a sustainable footprint\n\n\n\n\nWhat could be the source of sustainable fibres?\n\n\nBanana\nLotus\nPineapple\nBamboo\nHemp\nJute\nSustainable cotton\, silk and viscose\nEtc.\n\n\n\n\nWhy should buyers participate?\nImporters\, agents\, distributors\, retailers\, wholesalers\n\n\nYou will find qualified new suppliers of high-quality products\n\n\n\n\nWhat’s in it for the producers?\n\n\nOffer your products to potential new partners\n\n\n\n\n\n  \n\n\n\n\n\n\n\n\n\nHow does this work? \n\n\n\n\n1 – Create your marketplace opportunity\nAdd descriptions\, photos\, videos of your products OR describe what kind of products you’re looking for. \n \n2 – Browse other participants / marketplace\nYou’ll want to book meetings with the ones most relevant you business\, product\, plans and interests. \n \n3 – Send and receive meeting requests\nThese are private\, pre-booked 1-2-1 meetings\, lasting 30min each. \n\n\n  \n4 – Join the meeting\, talk business and make a new contact\nVirtual matchmaking meeting is just like an in-person meeting: get the main points and aims across and agree on a follow up\, if you both want to discuss further.  \n \n  \n\n\n\n\nNB! Registration closes at 12.00 (Bangkok/Jakarta time) on November 23. \nMeetings are scheduled on first come-first served basis. \nThe sooner you send and/or accept meeting requests\, the wider the pool of people you can meet with and the higher the likelihood they are available to meet with you.  \nIf you have questions or need help\, please email us on match@aseanaccess.com \n
URL:https://match.aseanaccess.com/events/textiles-matchmaking-sustainable-fibres/
LOCATION:Virtual
ATTACH;FMTTYPE=image/jpeg:https://match.aseanaccess.com/wp-content/uploads/2022/10/Screenshot-2022-10-31-at-21.49.48.jpg
END:VEVENT
END:VCALENDAR