BEGIN:VCALENDAR
VERSION:2.0
PRODID:-//ASEAN ACCESS MATCH - ECPv4.9.4//NONSGML v1.0//EN
CALSCALE:GREGORIAN
METHOD:PUBLISH
X-WR-CALNAME:ASEAN ACCESS MATCH
X-ORIGINAL-URL:https://match.aseanaccess.com
X-WR-CALDESC:Events for ASEAN ACCESS MATCH
BEGIN:VTIMEZONE
TZID:"UTC"
BEGIN:STANDARD
TZOFFSETFROM:+0000
TZOFFSETTO:+0000
TZNAME:UTC
DTSTART:20220101T000000
END:STANDARD
END:VTIMEZONE
BEGIN:VEVENT
DTSTART;TZID="UTC":20220706T090000
DTEND;TZID="UTC":20220706T150000
DTSTAMP:20230806T031559
CREATED:20220701T044409Z
LAST-MODIFIED:20220810T103234Z
UID:19642-1657098000-1657119600@match.aseanaccess.com
SUMMARY:Test b2b
DESCRIPTION:test b2b for match instructions video \n
URL:https://match.aseanaccess.com/events/test-b2b/
LOCATION:Virtual
CATEGORIES:Events
END:VEVENT
END:VCALENDAR