BEGIN:VCALENDAR
VERSION:2.0
PRODID:-//ASEAN ACCESS MATCH - ECPv4.9.4//NONSGML v1.0//EN
CALSCALE:GREGORIAN
METHOD:PUBLISH
X-WR-CALNAME:ASEAN ACCESS MATCH
X-ORIGINAL-URL:https://match.aseanaccess.com
X-WR-CALDESC:Events for ASEAN ACCESS MATCH
BEGIN:VTIMEZONE
TZID:"UTC"
BEGIN:STANDARD
TZOFFSETFROM:+0000
TZOFFSETTO:+0000
TZNAME:UTC
DTSTART:20230101T000000
END:STANDARD
END:VTIMEZONE
BEGIN:VEVENT
DTSTART;TZID="UTC":20230222T100000
DTEND;TZID="UTC":20230222T180000
DTSTAMP:20230806T031102
CREATED:20230123T040527Z
LAST-MODIFIED:20230224T071929Z
UID:20000-1677060000-1677088800@match.aseanaccess.com
SUMMARY:Processed Fruits and Vegetables: panel and matchmaking
DESCRIPTION:Seeing the importance of agriculture\, food\, and beverage sectors in GDP growth and employment in ASEAN countries\, and fast-changing global consumer trends\, technological innovations\, and climate change\, we would like to invite you​ to join a virtual panel discussion\, followed by business matchmaking event focusing on processed fruits and vegetables on 22 February\, 10am – 6pm (GMT +7 / BKK time). The panel covers a wide range of topics\, such as: \n \n  \nThis is a great opportunity to expand your business partnerships and network with other businesses in the region. Whether you’re a supplier or an exporter\, or a buyer or an importer of processed fruits and vegetables\, or a business owners in a related industry\, join this special session \n\n\n\n\n \n\n\n \n\n\n\n\n\nAll participants and panelists are also invited to the virtual business matchmaking with other processed fruit and vegetable businesses from all across ASEAN member states and beyond ASEAN. The matchmaking participants can pre-book virtual 1-2-1 meetings with each other before the event takes place\, and hold the meetings on the day of the event\, following the panel. Check out this video about how to book meetings and participate in a virtual matchmaking event. \nBrief Agenda \n\n \n\n\nTime\nActivity\n\n\n10:00 AM – 11:30 AM \n\nINTERNATIONAL PANEL DISCUSSION \nModerator: \nMs. Mylene Abiva\nChairperson\nWomen’s Business Council Philippines \nPanellists: \nAtty. Dulce Blanca Punzalan\nBoard Member\nZoomanity Group Inc.\nThe Philippines \nMs. Mao Sothea\nFounder and Managing Director\nSHE Agrocam Products \nMr. Nguyen Duy Duc\nFormer Deputy General Director\nViet Nam Institute for Agricultural Machinery and Postharvest Technology \n\n\n\n12:00 PM – 18:00 PM\n\nVIRTUAL BUSINESS MATCHMAKING \nSign-in with your existing MATCH account or create an account as new member \nMake sure your personal and company profile are updated \nBrowse other participant profiles \nSend meeting requests to those you wish to speak with \nAccept meeting requests that are sent to you \nReceive an email with your personalised meeting agenda and links \nOn the day\, click on the zoom link and start each meeting! \n\n\n\n\n  \n\nParticipation is FREE!\nRegistration deadline: 20 February @ 5:00 PM\nZoom link to the panel will be emailed to you the day before the event.\n\nIf you have further questions\, please don’t hesitate to reach us at: match@aseanaccess.com  \nThis event is organised by: \n\n\n\n\n\n\n\n\n\n\n\n\n\n\n  \n
URL:https://match.aseanaccess.com/events/processed-fruits-and-vegetables-panel-and-matchmaking/
LOCATION:Virtual
ATTACH;FMTTYPE=image/jpeg:https://match.aseanaccess.com/wp-content/uploads/2023/01/smart-farming-with-agriculture-iot-1-scaled.jpg
END:VEVENT
END:VCALENDAR