BEGIN:VCALENDAR
VERSION:2.0
PRODID:-//ASEAN ACCESS MATCH - ECPv4.9.4//NONSGML v1.0//EN
CALSCALE:GREGORIAN
METHOD:PUBLISH
X-WR-CALNAME:ASEAN ACCESS MATCH
X-ORIGINAL-URL:https://match.aseanaccess.com
X-WR-CALDESC:Events for ASEAN ACCESS MATCH
BEGIN:VTIMEZONE
TZID:"UTC"
BEGIN:STANDARD
TZOFFSETFROM:+0000
TZOFFSETTO:+0000
TZNAME:UTC
DTSTART:20220101T000000
END:STANDARD
END:VTIMEZONE
BEGIN:VEVENT
DTSTART;TZID="UTC":20221222T150000
DTEND;TZID="UTC":20221222T160000
DTSTAMP:20230806T031016
CREATED:20221201T120100Z
LAST-MODIFIED:20230224T072157Z
UID:19926-1671721200-1671724800@match.aseanaccess.com
SUMMARY:Next Steps: Join the EC market in Japan
DESCRIPTION:Background \nEarlier this year\, ASEAN-Japan Centre launched the project “ASEAN Digital Trade Promotion” to promote new and existing priority and strategic goods and services to support increasing ASEAN exports through digital trade (or e-commerce/EC) platforms. \nThrough this project\, a series of online workshops and networking session are organised to demonstrate how the Japanese EC Platforms can be utilised\, together with ASEAN Access\, and on 22 December 15.00 – 16.00 (Bangkok time / GMT +7)\, we invite all businesses interested in selling online in Japan to join the follow-up session to the first two webinars (even if you didn’t participate in these): “Next Steps: Join the EC market in Japan“.  \nWhat will be discussed? \n● Through open dialogue with participants\, the event will focus on addressing core issues and problems that businesses face when trying to join EC the market in Japan\, particularly Amazon Japan. \n● We will also present the results of a survey from the first webinar “selling your products on Amazon Japan”\, as well as the results of ASEAN-Japan Centre’s own research on “ASEAN products on Japanese EC sites”. \n \nProgramme: \n■ 20min: Results of the survey and research on ASEAN products on Japanese EC markets \n　Speaker: Michihiro Tanabe\, Programme Manager\, ASEAN-Japan Centre \n■ 20min: Follow-up session and discussion on what are the next steps to take to enter the Japanese e-commerce     market and especially Amazon Japan \n　 \nSpeaker: John Cant\, Co-Founder\, Rising Sun Commerce \n■ 20min: Open dialogue and Q&A session \n  \nNote: \n● Your information will be used only for the management of this event and the project “ASEAN Digital Trade Promotion”. \n● The Zoom link to join the webinar will be sent one day before the event\, on 21 December.  \n● Please note that the matchmaking function is disabled for this event and 1-2-1 meetings cannot be requested. \n  \nContact: \nFor general enquiries about MATCH please contact us via match@aseanaccess.com \nFor event specific questions\, please contact Michihiro TANABE\, Programme Manager\, ASEAN-Japan Centre: mtanabe@asean.or.jp \n \n
URL:https://match.aseanaccess.com/events/next-steps-join-the-ec-market-in-japan/
LOCATION:Virtual
CATEGORIES:Events,Webinar
ATTACH;FMTTYPE=image/jpeg:https://match.aseanaccess.com/wp-content/uploads/2022/12/Slide1.jpeg
END:VEVENT
END:VCALENDAR