BEGIN:VCALENDAR
VERSION:2.0
PRODID:-//ASEAN ACCESS MATCH - ECPv4.9.4//NONSGML v1.0//EN
CALSCALE:GREGORIAN
METHOD:PUBLISH
X-WR-CALNAME:ASEAN ACCESS MATCH
X-ORIGINAL-URL:https://match.aseanaccess.com
X-WR-CALDESC:Events for ASEAN ACCESS MATCH
BEGIN:VTIMEZONE
TZID:"UTC"
BEGIN:STANDARD
TZOFFSETFROM:+0000
TZOFFSETTO:+0000
TZNAME:UTC
DTSTART:20230101T000000
END:STANDARD
END:VTIMEZONE
BEGIN:VEVENT
DTSTART;TZID="UTC":20230817T100000
DTEND;TZID="UTC":20230817T170000
DTSTAMP:20230806T025647
CREATED:20230712T090010Z
LAST-MODIFIED:20230718T034159Z
UID:20403-1692266400-1692291600@match.aseanaccess.com
SUMMARY:Halal Market: Major Trends in Global Trade
DESCRIPTION:According to the global population statistics conducted by Pew Research Center in 2022\, there were 1.9 billion Muslims\, accounting for 23.54 percent of the world’s population. In the next 20 years\, the global Muslim population will reach 2.76 billion people\, or 29.7% which is considered one-third of the world’s population. It shows that the Muslim consumer market is a huge and high-potential market. In addition\, Muslim consumers tend to spend money more regularly. \nTherefore\, this event is organised to point out methods or opportunities for cooperation in imports and exports as well as the exchange of raw materials and up-to-date information on various regulations of each country that can aid in raising the level of ASEAN’s halal industry by holding a business panel to educate people about the trends\, demands and opportunities of halal products\, including policies for the development of halal industry in each country and guideline for collaboration to expand ASEAN’s halal market to the global venue. There is also a business matching activity to help connect businesses in the ASEAN halal market. \n  \n“Halal Market: Major Trends in Global Trade”\n \non\n \n17 August\, 2023 From 09.00 – 17.00 (GMT +7) \n  \nJoin us for an international business panel and business matching event.   \n  \nAGENDA\n17 August\, 2023 From 09.00 – 17.00 (GMT +7) \n\n\n\n10.00 – 11.30 hrs. (Bangkok/Jakarta time)\n\nINTERNATIONAL PANEL DISCUSSION \nTopic: \n\n2023 halal market trend and halal industry development policy of each country.\nStrength of halal industry in each country.\nImport rules regarding halal products in each country.\nGuideline for cooperation to push forward ASEAN’s halal market to global stage (other interesting markets)\n\nSpeakers: \n\nAdil Uppel\nCEO of UPPEL Trading\, Thailand\nAnas Santosop\nExecutive Director of Thai Muslim Trade Association (TMTA)\, Thailand\n\nNorlia Abdullah\nConsultant & Trader in Food Industry & halal\, Malaysia\n\n\n\n\n\n12.30 – 17.00 hrs. (Bangkok/Jakarta time) \n  \n\n\nVIRTUAL BUSINESS MATCHMAKING \nWho should participate: \n\nCompanies\nProducers or service providers with FDA/ GMP/HALAL standard approval\nImporters\, exporters\, buyers\, traders\, distributors etc. who are interested in halal products and services.\n\nYou can pre-book virtual 1-to-1 meetings with each other before the 17th\, and have the meetings on the day of the event\, following the panel.  \nCheck out this video about how to book meetings and participate in a virtual matchmaking event. Through matchmaking\, great opportunity to connect with important business for halal industry. \nNB! Don’t forget to register for a free info session on how to use MATCH for matchmaking and how to book meetings\, and get a better idea of the benefits of matchmaking. Click HERE to register. \n\n\n\n\n\nParticipation is FREE!\nRegistration deadline: 15 August 2023\, 23pm (GMT +7)\nZoom link to the panel will be emailed to you the day before the event.\n\n  \nThis event is organised by: \n \n
URL:https://match.aseanaccess.com/events/halal-market-major-trends-in-global-trade/
LOCATION:Virtual
CATEGORIES:Events,Webinar + matchmaking
ATTACH;FMTTYPE=image/jpeg:https://match.aseanaccess.com/wp-content/uploads/2023/07/n_coverhalal-scaled.jpg
END:VEVENT
END:VCALENDAR