BEGIN:VCALENDAR
VERSION:2.0
PRODID:-//ASEAN ACCESS MATCH - ECPv4.9.4//NONSGML v1.0//EN
CALSCALE:GREGORIAN
METHOD:PUBLISH
X-WR-CALNAME:ASEAN ACCESS MATCH
X-ORIGINAL-URL:https://match.aseanaccess.com
X-WR-CALDESC:Events for ASEAN ACCESS MATCH
BEGIN:VTIMEZONE
TZID:"UTC"
BEGIN:STANDARD
TZOFFSETFROM:+0000
TZOFFSETTO:+0000
TZNAME:UTC
DTSTART:20220101T000000
END:STANDARD
END:VTIMEZONE
BEGIN:VEVENT
DTSTART;TZID="UTC":20221123T090000
DTEND;TZID="UTC":20221123T170000
DTSTAMP:20230806T031105
CREATED:20221031T044803Z
LAST-MODIFIED:20221220T073628Z
UID:19839-1669194000-1669222800@match.aseanaccess.com
SUMMARY:FinTech Matchmaking: step into the future
DESCRIPTION:As part of the ASEAN Access Week 22-24 November\, we invite the fintech community alongside any and all companies who are leveraging fintech for their business growth and/or sustainability\, or who are interested in exploring this sector more\, to take part in free all-day virtual business matchmaking event on 23 November. \nIf you are a fintech technology supplier or developer\, a user or potential user of fintech\, or an MSME merchant in ASEAN and further away join the matchmaking event and meet potential new business partners\, discover new markets and learn more in-depth about this sector and its potential! No matter what industry you operate in\, fintech can offer a wealth of opportunities to improve and grow your business.  \nAll participants can pre-book 30min virtual 1-2-1 meetings with other participants based on their business development goals\, technology needs\, relevance\, target regions.  \n\n\n\n\nWHY PARTICIPATE? \n Meet potential new business partners \nDiscuss collaboration \nExpand your professional network \nIt’s virtual: save time and money!  \n\n\nHOW  IT WORKS? \nSign-in with your existing MATCH account or create an account as new member \nMake sure your personal and company profile are updated \nBrowse other participant profiles \nSend meeting requests to those you wish to speak with \nAccept meeting requests that are sent to you \nReceive an email with your personalised meeting agenda and links \nOn the day\, click on the zoom link and start each meeting! \n\n\n\n\n  \n\n\n\n\n\n\n\n\n\nRegistrations for the matchmaking event close at 12.00 (Bangkok/Jakarta time) on 22 November.  \nMeetings are scheduled on first come-first served basis. \nThe sooner you send and/or accept meeting requests\, the wider the pool of people you can meet with and the higher the likelihood they are available to meet with you.  \nIf you have questions or need help\, please email us on match@aseanaccess.com \n
URL:https://match.aseanaccess.com/events/fintech-matchmaking-step-into-the-future/
LOCATION:Virtual
ATTACH;FMTTYPE=image/jpeg:https://match.aseanaccess.com/wp-content/uploads/2022/04/Screenshot-2022-10-31-at-11.24.51.jpg
END:VEVENT
END:VCALENDAR