BEGIN:VCALENDAR
VERSION:2.0
PRODID:-//ASEAN ACCESS MATCH - ECPv4.9.4//NONSGML v1.0//EN
CALSCALE:GREGORIAN
METHOD:PUBLISH
X-WR-CALNAME:ASEAN ACCESS MATCH
X-ORIGINAL-URL:https://match.aseanaccess.com
X-WR-CALDESC:Events for ASEAN ACCESS MATCH
BEGIN:VTIMEZONE
TZID:"UTC"
BEGIN:STANDARD
TZOFFSETFROM:+0000
TZOFFSETTO:+0000
TZNAME:UTC
DTSTART:20220101T000000
END:STANDARD
END:VTIMEZONE
BEGIN:VEVENT
DTSTART;TZID="UTC":20221122T100000
DTEND;TZID="UTC":20221124T170000
DTSTAMP:20260421T125418
CREATED:20221031T093534Z
LAST-MODIFIED:20240930T113732Z
UID:19854-1669111200-1669309200@match.aseanaccess.com
SUMMARY:ASEAN Access Week: FinTech and Textiles
DESCRIPTION:ASEAN Access Week is the autumn showcase of how ASEAN Access can benefit businesses and help them learn and launch in new markets. Over 3 days\, from 22-24 November\, we are organising webinars and panel sessions\, and are bringing companies the chance to find new business partners and opportunities through dedicated virtual matchmaking events. \nTake a look at the mini-agenda\, and keep reading for more details about each day:     \n\nDAY 1 – 22 November – Webinars and panel sessions: FinTech and Textiles (see below)\nDAY 2 – 23 November – Virtual FinTech matchmaking\nDAY 3 – 24 November – Virtual textiles matchmaking\n\nASEAN Access Week \nFirst\, we are inviting businesses for a full day of webinars and panel sessions on: \nFinTech and textiles on 22 November\, 10.00 – 15.00 (GMT +7).  \nDAY 1\nWebinars and virtual panel sessions\n22 November \n\n\n\n10.00 – 10.00\n\nWelcome Remarks\nDr. Ahmad Zafarullah Abdul Jalil\nDirector\, ASEAN Integration Monitoring Directorate \nASEAN Secretariat \n\n\n\n10.10 – 10.15\n\nIntroducing ASEAN Access and ASEAN Access MATCH\nMs. Triin Udris\nOn behalf of The Office of SMEs Promotion of Thailand \n\n\n\n10.15 – 11.15\n\nPANEL SESSION 1\nGrowth of MSMEs in ASEAN through cross-border opportunities \n\n\n\n11.15 – 11.30\nQuestions & Answers\n\n\n11.30 – 12.15\n\nPANEL SESSION 2\nLeveraging FinTech for sustainability \n\n\n\n12.15 – 12.30\nQuestions & Answers\n\n\n12.30 – 13.30\nLunch\n\n\n13.30 – 14.30\n\nPANEL SESSION 3\nKnowledge sharing of sustainable fibres and their market potential\n\n\n\n14.30 – 14.45\nQuestions & Answers\n\n\n14.45 – 15.00\nWords of thanks and end of Day 1\n\n\n\nWhat will you hear about? \nFintech is paving the way into the future. MSMEs in ASEAN need to understand and leverage the technologies brought about the 4th Industrial Revolution in sustaining and growing the enterprise while building resilience. Cross-border payments are important for expanding business within and beyond ASEAN where financial technologies (FinTech) and understanding its providers is the key in achieving new market access and expansion. Join the 1st panel session to hear more: \nPANEL SESSION 1\nGrowth of MSMEs in ASEAN through cross-border opportunities \n\n\n\nModerator:\nMs. Cindy Chaw Khin Khin\nMyanmar Computer Federation\n \n\n\nSpeakers/panellists: \n\nMr. Edison Tsai\nExecutive Director\nSeedIn Technology Inc.\, the Philippines \nMr. Mario Jordan Fetalino\nHead of Alternative Finance\, Innovation Garage\nUBX (Union Bank) of Philippines \nMr. Sela Bandjhi\nHead of B2B E-Commerce\nWing Bank (Cambodia) PLC \nMr. Tong Viet Hieu\nHead of International Sales\nViettel Digital Service Corporation\nViet Nam \n\n\n \n\n\n\n\n\nFinTech is also changing the landscape of digital inclusion for the unbanked and underbanked. Often\, FinTech works with on the grass-root level and provides solutions that support sustainable efforts in promoting financial digital inclusion for underserved communities\, bringing greater access for all. Learn all about it in the 2nd panel session: \nPANEL SESSION 2\nLeveraging FinTech for Sustainability \n\n\n\nModerator:\nMs. Prima Desita\nFounder\nBerSama\, Indonesia\n \n\n\nSpeakers/panellists:\n\nMs. Nuraizah Shamsul Baharin\nCEO\nMADCash\, Malaysia \nMs. Sarah Dhewanto\nFounder\nDuitHape\, Indonesia \nMs. Anjani Amitya Kirana\nFinancial Inclusion Practitioner\nSUN Consulting\, Indonesia \n\n\n \n\n\n\n\n\nMoving on to the world of textiles\, it is increasingly necessary to promote the sustainability and circular economy by highlighting the importance of environmentally friendly and sustainable fibres as textile materials through knowledge sharing of the fibre extraction\, production practices by various ASEAN countries and the corresponding business potential for increased market access through connecting the regional supply chains within ASEAN. Join the 3rd session and see how your business can benefit from or contribute to sustainable fibres and textiles: \nPANEL SESSION 3\nKnowledge sharing of sustainable fibres and their market potential \n\n\n\nModerator:\n\nMs. Mylene Abiva\nChairperson\nWomen’s Business Council Philippines \n\n \n\n\nSpeakers/panellists:\n\nMs. Celia Elumba\nFormer Director\nPhilippines Textile Research Institute \nMr. Myint Thein Tun (Ko Nge)\nKhit Sunn Yin\nLotus\, Silk and Cotton Hand Weaving Center Myanmar \nMs.Dalayphone Sayasithsen (Kabi)\nFounder\nSAYA Brand\, Lao PDR \nMs. Kanjira Songpaisan\nFounder\nTaktai\, Thailand \n\n \n  \n\n\n\n\nAll events on Day 1 take place through the same Zoom link and we will email you the link the day before.  \nRegistrations close 09.00 (GMT +7) on 22 November. Please register below. \nIf you have questions or need help\, please email us on match@aseanaccess.com \nFor the matchmaking events\, you need to register separately\, as each matchmaking meeting is pre-booked private and you will only meet with the person whom you have confirmed the meeting with\, through your private Zoom link that will be emailed to you.  \nASEAN Access DAY 2\nFinTech Virtual Matchmaking\n23 November \n\n\n\nThis day is all about matchmaking. This means\, there is no webinar\, there are no group product presentations\, but all companies who are interested in FinTech or are working with FinTech\, are invited to a free virtual matchmaking event. If you’re a developer or technology supplier\, or a business interested in speaking with experts about your business and how it could use fintech\, join this matchmaking event and meet new partners and opportunities. \n \n\n\n\n\nSign up here for the FinTech matchmaking event \nAfter you sign up\, you can send meeting invitations to other participants\, and then on 23 November\, all meetings that have been confirmed\, will be in your agenda with zoom links that take you directly into your personal and private virtual meeting\, with the other person. \n  \n\n\n\nASEAN Access DAY 3\nTextiles Virtual Matchmaking\n24 November\n\n\n\n\nThis day is all about matchmaking. This means\, there is no webinar\, there are no group product presentations\, but all companies who are active in the field of sustainable textiles and fibres are invited to a free virtual matchmaking event. If you’re a supplier or producer\, or user of sustainable fibres\, or have special production technologies\, join this matchmaking event and meet new partners and opportunities.  \nSign up here for the textiles matchmaking event \nAfter you sign up\, you can send meeting invitations to other participants\, and then on 24 November\, all meetings that have been confirmed\, will be in your agenda with zoom links that take you directly into your personal and private virtual meeting\, with the other person. \n
URL:https://match.aseanaccess.com/events/asean-access-week-fintech-and-textiles/
LOCATION:Virtual
ATTACH;FMTTYPE=image/jpeg:https://match.aseanaccess.com/wp-content/uploads/2022/10/WhatsApp-Image-2022-11-01-at-11.20.34.jpeg
END:VEVENT
END:VCALENDAR